BEGIN:VCALENDAR
VERSION:2.0
PRODID:-//ChamberMaster//Event Calendar 2.0//EN
METHOD:PUBLISH
X-PUBLISHED-TTL:P3D
REFRESH-INTERVAL:P3D
CALSCALE:GREGORIAN
BEGIN:VEVENT
DTSTART:20230114T050000Z
DTEND:20230114T063000Z
X-MICROSOFT-CDO-ALLDAYEVENT:FALSE
SUMMARY:E Board Meeting
DESCRIPTION:Join Zoom Meeting\n\nhttps://us06web.zoom.us/j/85003927851?pwd=aUVROGxxRlo3VmdlZ1NYRUsvekNCQT09\n\n \n\nMeeting ID: 850 0392 7851\n\nPasscode: 487899
X-ALT-DESC;FMTTYPE=text/html:<span style="font-size:12.0pt\;">Join Zoom Meeting</span><br />\n<span style="font-size:12.0pt\;"><a href="https://us06web.zoom.us/j/85003927851?pwd=aUVROGxxRlo3VmdlZ1NYRUsvekNCQT09">https://us06web.zoom.us/j/85003927851?pwd=aUVROGxxRlo3VmdlZ1NYRUsvekNCQT09</a></span><br />\n&nbsp\;<br />\n<span style="font-size:12.0pt\;">Meeting ID: 850 0392 7851</span><br />\n<span style="font-size:12.0pt\;">Passcode: 487899</span>
LOCATION:
UID:e.2411.15716
SEQUENCE:3
DTSTAMP:20260425T014424Z
URL:http://lakecodev.chambermaster.com/events/details/e-board-meeting-15716
END:VEVENT

END:VCALENDAR
