BEGIN:VCALENDAR
VERSION:2.0
PRODID:-//ChamberMaster//Event Calendar 2.0//EN
METHOD:PUBLISH
X-PUBLISHED-TTL:P3D
REFRESH-INTERVAL:P3D
CALSCALE:GREGORIAN
BEGIN:VEVENT
DTSTART:20220910T020000Z
DTEND:20220910T040000Z
X-MICROSOFT-CDO-ALLDAYEVENT:FALSE
SUMMARY:Driving Miss Daisy
DESCRIPTION:Lake County Theatre Company presents Driving Miss Daisy
X-ALT-DESC;FMTTYPE=text/html:Lake County Theatre Company presents Driving Miss Daisy
LOCATION:Soper Reese Theatre
UID:e.2411.14899
SEQUENCE:3
DTSTAMP:20260425T124537Z
URL:http://lakecodev.chambermaster.com/events/details/driving-miss-daisy-14899
END:VEVENT

END:VCALENDAR
