BEGIN:VCALENDAR
VERSION:2.0
PRODID:-//ChamberMaster//Event Calendar 2.0//EN
METHOD:PUBLISH
X-PUBLISHED-TTL:P3D
REFRESH-INTERVAL:P3D
CALSCALE:GREGORIAN
BEGIN:VEVENT
DTSTART:20230309T003000Z
DTEND:20230309T020000Z
X-MICROSOFT-CDO-ALLDAYEVENT:FALSE
SUMMARY:Clearlake Outdoors Ribbon Cutting
DESCRIPTION:Celebrating their 5 year anniversary of ownership!\n\nRibbon Cutting at 5:00.\n\nDrinks & snack being served.
X-ALT-DESC;FMTTYPE=text/html:Celebrating their 5 year anniversary of ownership!<br />\nRibbon Cutting at 5:00.<br />\nDrinks &amp\; snack being served.<br />\n&nbsp\;
LOCATION:96 Soda Bay Rd Lakeport
UID:e.2411.16995
SEQUENCE:3
DTSTAMP:20260425T155553Z
URL:http://lakecodev.chambermaster.com/events/details/clearlake-outdoors-ribbon-cutting-16995
END:VEVENT

END:VCALENDAR
