BEGIN:VCALENDAR
VERSION:2.0
PRODID:-//ChamberMaster//Event Calendar 2.0//EN
METHOD:PUBLISH
X-PUBLISHED-TTL:P3D
REFRESH-INTERVAL:P3D
CALSCALE:GREGORIAN
BEGIN:VEVENT
DTSTART:20221031T210000Z
DTEND:20221101T000000Z
X-MICROSOFT-CDO-ALLDAYEVENT:FALSE
SUMMARY:City Hall-Oween
DESCRIPTION:Bring the kiddos to Clearlake City Hall for candy and pizza. Sponsored by the City of Clearlake and Cecil's Pizza.
X-ALT-DESC;FMTTYPE=text/html:Bring the kiddos to Clearlake City Hall for candy and pizza. Sponsored by the City of Clearlake and Cecil&#39\;s Pizza.
LOCATION:14050 Olympic Drive Clearlake CA 95422
UID:e.2411.15536
SEQUENCE:3
DTSTAMP:20260424T191402Z
URL:http://lakecodev.chambermaster.com/events/details/city-hall-oween-15536
END:VEVENT

END:VCALENDAR
