BEGIN:VCALENDAR
VERSION:2.0
PRODID:-//ChamberMaster//Event Calendar 2.0//EN
METHOD:PUBLISH
X-PUBLISHED-TTL:P3D
REFRESH-INTERVAL:P3D
CALSCALE:GREGORIAN
BEGIN:VEVENT
DTSTART:20220910T223000Z
DTEND:20220911T000000Z
X-MICROSOFT-CDO-ALLDAYEVENT:FALSE
SUMMARY:Circus Royal
DESCRIPTION:A Real Circus under the Big Top!
X-ALT-DESC;FMTTYPE=text/html:A Real Circus under the Big Top!<br />\n&nbsp\;
LOCATION:Redbud Park 14655 Ballpark Ave Clearlake
UID:e.2411.15509
SEQUENCE:3
DTSTAMP:20260425T184723Z
URL:http://lakecodev.chambermaster.com/events/details/circus-royal-15509
END:VEVENT

END:VCALENDAR
