BEGIN:VCALENDAR
VERSION:2.0
PRODID:-//ChamberMaster//Event Calendar 2.0//EN
METHOD:PUBLISH
X-PUBLISHED-TTL:P3D
REFRESH-INTERVAL:P3D
CALSCALE:GREGORIAN
BEGIN:VEVENT
DTSTART:20221210T230000Z
DTEND:20221211T030000Z
X-MICROSOFT-CDO-ALLDAYEVENT:FALSE
SUMMARY:Christmas In Middletown
DESCRIPTION:*Santa Claus at Libray Park from 4:30 til 6:00\n\n*Tree Lighting - 6:00 at Library Park\n\n*Local Merchants Open Late\n\n*Vendors at the Library\n\n*Passport to Fun - Visit merchants to collect puzzle pieces and win prizes
X-ALT-DESC;FMTTYPE=text/html:*Santa Claus at Libray Park from 4:30 til 6:00<br />\n*Tree Lighting - 6:00 at Library Park<br />\n*Local Merchants Open Late<br />\n*Vendors at the Library<br />\n*Passport to Fun - Visit merchants to collect puzzle pieces and win prizes&nbsp\;&nbsp\;&nbsp\;&nbsp\;
LOCATION:Middletown
UID:e.2411.15688
SEQUENCE:3
DTSTAMP:20260425T205911Z
URL:http://lakecodev.chambermaster.com/events/details/christmas-in-middletown-15688
END:VEVENT

END:VCALENDAR
