BEGIN:VCALENDAR
VERSION:2.0
PRODID:-//ChamberMaster//Event Calendar 2.0//EN
METHOD:PUBLISH
X-PUBLISHED-TTL:P3D
REFRESH-INTERVAL:P3D
CALSCALE:GREGORIAN
BEGIN:VEVENT
DTSTART:20221217T190000Z
DTEND:20221218T003000Z
X-MICROSOFT-CDO-ALLDAYEVENT:FALSE
SUMMARY:Christmas at Six Sigma Ranch
DESCRIPTION:This family friendly event is a great way to celebrate the holidays. There is wine tasting and food parings for adults\, as well as hay rides and hot chocolate for the kiddos! Reserve a table at 11am\, 1pm or 3pm.
X-ALT-DESC;FMTTYPE=text/html:This family friendly event is a great way to celebrate the holidays. There is wine tasting and food parings for adults\, as well as hay rides and hot chocolate for the kiddos! Reserve a table at 11am\, 1pm or 3pm.
LOCATION:Six Sigma Ranch 13372 Spruce Grove Rd Lower Lake\, CA 95457
UID:e.2411.15661
SEQUENCE:3
DTSTAMP:20260425T224928Z
URL:http://lakecodev.chambermaster.com/events/details/christmas-at-six-sigma-ranch-15661
END:VEVENT

END:VCALENDAR
