BEGIN:VCALENDAR
VERSION:2.0
PRODID:-//ChamberMaster//Event Calendar 2.0//EN
METHOD:PUBLISH
X-PUBLISHED-TTL:P3D
REFRESH-INTERVAL:P3D
CALSCALE:GREGORIAN
BEGIN:VEVENT
DTSTART:20230408T190000Z
DTEND:20230408T220000Z
X-MICROSOFT-CDO-ALLDAYEVENT:FALSE
SUMMARY:Boatique's First Annual Easter Egg Hunt
DESCRIPTION:Easter is around the corner\, and we are super excited to announce our first Annual Easter Egg Hunt! Come see us Saturday April 8th 12-3pm for a hoppin' good time for kids and adults! Click the link below for tickets and more info. https://www.eventbrite.com/e/bunnies-bacon-and-bubbles-tickets-593831936307?utm-campaign=social&utm-content=attendeeshare&utm-medium=discovery&utm-term=listing&utm-source=cp&aff=escb
X-ALT-DESC;FMTTYPE=text/html:Easter is around the corner\, and we are super excited to announce our first Annual Easter Egg Hunt! Come see us Saturday April 8th 12-3pm for a hoppin&#39\; good time for kids and adults! Click the link below for tickets and more info. https://www.eventbrite.com/e/bunnies-bacon-and-bubbles-tickets-593831936307?utm-campaign=social&amp\;utm-content=attendeeshare&amp\;utm-medium=discovery&amp\;utm-term=listing&amp\;utm-source=cp&amp\;aff=escb
LOCATION:Boatique Winery 8255 Red Hills Road Kelseyville\, CA 95451
UID:e.2411.17141
SEQUENCE:3
DTSTAMP:20260426T035224Z
URL:http://lakecodev.chambermaster.com/events/details/boatique-s-first-annual-easter-egg-hunt-17141
END:VEVENT

END:VCALENDAR
