BEGIN:VCALENDAR
VERSION:2.0
PRODID:-//ChamberMaster//Event Calendar 2.0//EN
METHOD:PUBLISH
X-PUBLISHED-TTL:P3D
REFRESH-INTERVAL:P3D
CALSCALE:GREGORIAN
BEGIN:VEVENT
DTSTART:20230506T200000Z
DTEND:20230506T220000Z
X-MICROSOFT-CDO-ALLDAYEVENT:FALSE
SUMMARY:Ben vanSteenburgh Art Reception
DESCRIPTION:Art Opening for the artist for the month of May\, Ben vanSteenburgh.
X-ALT-DESC;FMTTYPE=text/html:Art Opening for the artist for the month of May\, Ben vanSteenburgh.
LOCATION:3924 Main Street Kelseyville
UID:e.2411.17563
SEQUENCE:3
DTSTAMP:20260425T174743Z
URL:http://lakecodev.chambermaster.com/events/details/ben-vansteenburgh-art-reception-17563
END:VEVENT

END:VCALENDAR
