BEGIN:VCALENDAR
VERSION:2.0
PRODID:-//ChamberMaster//Event Calendar 2.0//EN
METHOD:PUBLISH
X-PUBLISHED-TTL:P3D
REFRESH-INTERVAL:P3D
CALSCALE:GREGORIAN
BEGIN:VEVENT
DTSTART:20210321T013000Z
DTEND:20210321T030000Z
X-MICROSOFT-CDO-ALLDAYEVENT:FALSE
SUMMARY:Apart and Connected
DESCRIPTION:Join us for Middletown Art Center's 6th Anniversary Virtual Opening Reception and Celebration. Though we may be apart for now\, you can connect with local artists and ceramicists through their newer works on view at the Apart and Connected exhibition. Live-streamed on Zoom. Register @ middletownartcenter.org
X-ALT-DESC;FMTTYPE=text/html:Join us for Middletown Art Center&#39\;s 6th Anniversary Virtual Opening Reception and Celebration. Though we may be apart for now\, you can connect with local artists and ceramicists through their newer works on view at the Apart and Connected exhibition. Live-streamed on Zoom. Register @ middletownartcenter.org
LOCATION:MiddletownArt Center 21456 State Hwy. 175 @ 29\, Middletown CA 95461
UID:e.2411.12790
SEQUENCE:3
DTSTAMP:20260426T023607Z
URL:http://lakecodev.chambermaster.com/events/details/apart-and-connected-12790
END:VEVENT

END:VCALENDAR
