BEGIN:VCALENDAR
VERSION:2.0
PRODID:-//ChamberMaster//Event Calendar 2.0//EN
METHOD:PUBLISH
X-PUBLISHED-TTL:P3D
REFRESH-INTERVAL:P3D
CALSCALE:GREGORIAN
BEGIN:VEVENT
DTSTART:20230514T003000Z
DTEND:20230514T023000Z
X-MICROSOFT-CDO-ALLDAYEVENT:FALSE
SUMMARY:Anthony Neves Live at the Willows
DESCRIPTION:Anthony Neves returns to the Willows this Saturday night.
X-ALT-DESC;FMTTYPE=text/html:Anthony Neves returns to the Willows this Saturday night.
LOCATION:125 Park Street\, Lakeport\, CA 95453
UID:e.2411.17620
SEQUENCE:3
DTSTAMP:20260425T155553Z
URL:http://lakecodev.chambermaster.com/events/details/anthony-neves-live-at-the-willows-17620
END:VEVENT

END:VCALENDAR
