BEGIN:VCALENDAR
VERSION:2.0
PRODID:-//ChamberMaster//Event Calendar 2.0//EN
METHOD:PUBLISH
X-PUBLISHED-TTL:P3D
REFRESH-INTERVAL:P3D
CALSCALE:GREGORIAN
BEGIN:VEVENT
DTSTART:20211204T213000Z
DTEND:20211205T000000Z
X-MICROSOFT-CDO-ALLDAYEVENT:FALSE
SUMMARY:Annual Christmas Tea
DESCRIPTION:A Delightful Afternoon Awaits you! Visit with Santa at the lovely little Christmas store\, get in the sprit with Christmas Music and Prepare to enjoy delicious Tea & Treats.
X-ALT-DESC;FMTTYPE=text/html:A Delightful Afternoon Awaits you! Visit with Santa at the lovely little Christmas store\, get in the sprit with Christmas Music and Prepare to enjoy delicious Tea &amp\; Treats.
LOCATION:13587 Santa Clara Ave\, Clearlake CA
UID:e.2411.13798
SEQUENCE:3
DTSTAMP:20260424T121109Z
URL:http://lakecodev.chambermaster.com/events/details/annual-christmas-tea-13798
END:VEVENT

END:VCALENDAR
