BEGIN:VCALENDAR
VERSION:2.0
PRODID:-//ChamberMaster//Event Calendar 2.0//EN
METHOD:PUBLISH
X-PUBLISHED-TTL:P3D
REFRESH-INTERVAL:P3D
CALSCALE:GREGORIAN
BEGIN:VEVENT
DTSTART:20220304T013000Z
DTEND:20220304T050000Z
X-MICROSOFT-CDO-ALLDAYEVENT:FALSE
SUMMARY:Acoustic Eidolon Concert
DESCRIPTION:This live concert\, featuring world-traveling musicians\, Joe Scott on double-neck guitjo and Hannah Alkire on cello\, will be held in Middletown at the acoustically rich and intimate Jazzercise studio of Beth Rudiger. Their music touches hearts and soothes souls\, resulting in sold-out concerts every time they have stopped in Middletown. Search them on YouTube to hear a sample. The doors open at 5:30p for dinner and socializing. The concert begins at 6:30p. Dinner is buffet style\, featuring a variety of Filipino and American foods and includes a choice of beverage and dessert. Reservations are held when payment is made. Contact Beth with questions and to arrange payment.
X-ALT-DESC;FMTTYPE=text/html:This live concert\, featuring world-traveling musicians\, Joe Scott on double-neck guitjo and Hannah Alkire on cello\, will be held in Middletown at the acoustically rich and intimate Jazzercise studio of Beth Rudiger. Their music touches hearts and soothes souls\, resulting in sold-out concerts every time they have stopped in Middletown. Search them on YouTube to hear a sample. The doors open at 5:30p for dinner and socializing. The concert begins at 6:30p. Dinner is buffet style\, featuring a variety of Filipino and American foods and includes a choice of beverage and dessert. Reservations are held when payment is made. Contact Beth with questions and to arrange payment.
LOCATION:Lake County Jazzercise 15642 Armstrong Street Middletown (2 blocks behind the PO)
UID:e.2411.13963
SEQUENCE:3
DTSTAMP:20260424T053221Z
URL:http://lakecodev.chambermaster.com/events/details/acoustic-eidolon-concert-13963
END:VEVENT

END:VCALENDAR
