BEGIN:VCALENDAR
VERSION:2.0
PRODID:-//ChamberMaster//Event Calendar 2.0//EN
METHOD:PUBLISH
X-PUBLISHED-TTL:P3D
REFRESH-INTERVAL:P3D
CALSCALE:GREGORIAN
BEGIN:VEVENT
DTSTART:20220417T200000Z
DTEND:20220417T210000Z
X-MICROSOFT-CDO-ALLDAYEVENT:FALSE
SUMMARY:96th Annual Lakeport Rotary Easter Egg Hunt
DESCRIPTION:This year's FREE event will take place at the Lake County Fairgrounds in Lakeport. The gates will open at 1:00 p.m. There will be three fields ready with hidden eggs for the three different age categories: up to three years old\, 4 to 8 years old\, and 9 to 12 years old. Traditional\, dyed eggs and plastic eggs with goodies inside will be available for the kids to find. Some lucky egg-hunters will also win cash prizes as each field will include one Golden Egg and two Silver Eggs.\n\nAlso making an appearance this year is the Easter Bunny! The Bunny will be there to visit with and provide photo opportunities for the children.
X-ALT-DESC;FMTTYPE=text/html:<div class="kvgmc6g5 cxmmr5t8 oygrvhab hcukyx3x c1et5uql" style="overflow-wrap: break-word\; margin: 0px\; font-family: &quot\;Segoe UI Historic&quot\;\, &quot\;Segoe UI&quot\;\, Helvetica\, Arial\, sans-serif\; color: rgb(5\, 5\, 5)\; font-size: 15px\;"><span style="font-size:14px\;">This year&rsquo\;s FREE event will take place at the Lake County Fairgrounds in Lakeport. The gates will open at 1:00 p.m. There will be three fields ready with hidden eggs for the three different age categories: up to three years old\, 4 to 8 years old\, and 9 to 12 years old. Traditional\, dyed eggs and plastic eggs with goodies inside will be available for the kids to find. Some lucky egg-hunters will also win cash prizes as each field will include one Golden Egg and two Silver Eggs.</span></div>\n\n<div class="cxmmr5t8 oygrvhab hcukyx3x c1et5uql o9v6fnle" style="overflow-wrap: break-word\; margin: 0.5em 0px 0px\; font-family: &quot\;Segoe UI Historic&quot\;\, &quot\;Segoe UI&quot\;\, Helvetica\, Arial\, sans-serif\; color: rgb(5\, 5\, 5)\; font-size: 15px\;"><span style="font-size:14px\;">Also making an appearance this year is the Easter Bunny! The Bunny will be there to visit with and provide photo opportunities for the children.</span></div>\n
LOCATION:Lake County Fairgrounds
UID:e.2411.14383
SEQUENCE:3
DTSTAMP:20260425T132548Z
URL:http://lakecodev.chambermaster.com/events/details/96th-annual-lakeport-rotary-easter-egg-hunt-14383
END:VEVENT

END:VCALENDAR
