BEGIN:VCALENDAR
VERSION:2.0
PRODID:-//ChamberMaster//Event Calendar 2.0//EN
METHOD:PUBLISH
X-PUBLISHED-TTL:P3D
REFRESH-INTERVAL:P3D
CALSCALE:GREGORIAN
BEGIN:VEVENT
DTSTART:20220619T150000Z
DTEND:20220620T040000Z
X-MICROSOFT-CDO-ALLDAYEVENT:FALSE
SUMMARY:61st Annual Middletown Days
DESCRIPTION:Lioness Father's Day Breakfast\, Cowboy Church\, Pork Cook Off Tasting\, and Horseshoe and Cornhole Tourneys.
X-ALT-DESC;FMTTYPE=text/html:Lioness Father&#39\;s Day Breakfast\, Cowboy Church\, Pork Cook Off Tasting\, and Horseshoe and Cornhole Tourneys.
LOCATION:Central Park Rd Middletown
UID:e.2411.15139
SEQUENCE:3
DTSTAMP:20260423T183657Z
URL:http://lakecodev.chambermaster.com/events/details/61st-annual-middletown-days-15139
END:VEVENT

END:VCALENDAR
